BEGIN:VCALENDAR
VERSION:2.0
PRODID:-//Global Electronics Council - ECPv5.16.0//NONSGML v1.0//EN
CALSCALE:GREGORIAN
METHOD:PUBLISH
X-ORIGINAL-URL:http://synapse.asia/12777_website
X-WR-CALDESC:Events for Global Electronics Council
REFRESH-INTERVAL;VALUE=DURATION:PT1H
X-Robots-Tag:noindex
X-PUBLISHED-TTL:PT1H
BEGIN:VTIMEZONE
TZID:America/New_York
BEGIN:DAYLIGHT
TZOFFSETFROM:-0500
TZOFFSETTO:-0400
TZNAME:EDT
DTSTART:20220313T070000
END:DAYLIGHT
BEGIN:STANDARD
TZOFFSETFROM:-0400
TZOFFSETTO:-0500
TZNAME:EST
DTSTART:20221106T060000
END:STANDARD
END:VTIMEZONE
BEGIN:VEVENT
DTSTART;VALUE=DATE:20220525
DTEND;VALUE=DATE:20220526
DTSTAMP:20260422T175115
CREATED:20220609T092839Z
LAST-MODIFIED:20220609T092839Z
UID:6592-1653436800-1653523199@synapse.asia
SUMMARY:GEC Draft Sustainable Use of Resources Criteria Public Comment Period
DESCRIPTION:When complete\, these “modular” criteria will be applied across all EPEAT product categories. \nThis webinar will review the draft criteria for Sustainable Use of Resources\, and provide the rationale behind the criteria. The webinar will also review the process for submitting public comments on the criteria. \nNote: the draft criteria will be available around May 19\, and public comment opens for 60-days. \nPanelist Information\nPatty Dillon\, Senior Director\, Criteria & Category Development\, Global Electronics Council\nErica Logan\, Director\, Sustainability Criteria Development Global Electronics Council\nJessica Evans\, Director\, Standards Development\, NSF International\nGreta Baragar\, Sustainability Standards Lead\, NSF International
URL:http://synapse.asia/12777_website/event/gec-draft-sustainable-use-of-resources-criteria-public-comment-period/
CATEGORIES:Webinars
ATTACH;FMTTYPE=image/png:http://synapse.asia/12777_website/wp-content/uploads/GEC-Draft-Sustainable-Use-of-Resources-Criteria.png
END:VEVENT
BEGIN:VEVENT
DTSTART;VALUE=DATE:20220616
DTEND;VALUE=DATE:20220617
DTSTAMP:20260422T175115
CREATED:20220609T093320Z
LAST-MODIFIED:20220609T094433Z
UID:6595-1655337600-1655423999@synapse.asia
SUMMARY:Annual Government Procurement Conference
DESCRIPTION:Come see GEC at the 31st Annual Government Procurement Conference being held at the Walter E. Washington Convention Center! We’ll have a booth set up\, and are excited to meet you in person.
URL:http://synapse.asia/12777_website/event/annual-government-procurement-conference/
CATEGORIES:Events
ATTACH;FMTTYPE=image/png:http://synapse.asia/12777_website/wp-content/uploads/purchasers-awards-1200-628-image-2022-logo.png
END:VEVENT
BEGIN:VEVENT
DTSTART;VALUE=DATE:20220728
DTEND;VALUE=DATE:20220729
DTSTAMP:20260422T175115
CREATED:20220608T112454Z
LAST-MODIFIED:20220720T061743Z
UID:6568-1658966400-1659052799@synapse.asia
SUMMARY:2022 EPEAT Purchaser Awards Virtual Event
DESCRIPTION:Join the Global Electronics Council and purchasers from around the world as we announce the 2022 EPEAT Purchaser Award Winners – leaders in sustainable electronics procurement! Get your access link for this special event.
URL:http://synapse.asia/12777_website/event/2022-epeat-purchaser-awards-virtual-event/
CATEGORIES:Webinars
ATTACH;FMTTYPE=image/png:http://synapse.asia/12777_website/wp-content/uploads/purchasers-awards-1200-628-image-2022-logo.png
END:VEVENT
END:VCALENDAR