BEGIN:VCALENDAR
VERSION:2.0
PRODID:-//Global Electronics Council - ECPv5.16.0//NONSGML v1.0//EN
CALSCALE:GREGORIAN
METHOD:PUBLISH
X-WR-CALNAME:Global Electronics Council
X-ORIGINAL-URL:http://synapse.asia/12777_website
X-WR-CALDESC:Events for Global Electronics Council
REFRESH-INTERVAL;VALUE=DURATION:PT1H
X-Robots-Tag:noindex
X-PUBLISHED-TTL:PT1H
BEGIN:VTIMEZONE
TZID:America/New_York
BEGIN:DAYLIGHT
TZOFFSETFROM:-0500
TZOFFSETTO:-0400
TZNAME:EDT
DTSTART:20220313T070000
END:DAYLIGHT
BEGIN:STANDARD
TZOFFSETFROM:-0400
TZOFFSETTO:-0500
TZNAME:EST
DTSTART:20221106T060000
END:STANDARD
END:VTIMEZONE
BEGIN:VEVENT
DTSTART;VALUE=DATE:20220525
DTEND;VALUE=DATE:20220526
DTSTAMP:20260421T204035
CREATED:20220609T092839Z
LAST-MODIFIED:20220609T092839Z
UID:6592-1653436800-1653523199@synapse.asia
SUMMARY:GEC Draft Sustainable Use of Resources Criteria Public Comment Period
DESCRIPTION:When complete\, these “modular” criteria will be applied across all EPEAT product categories. \nThis webinar will review the draft criteria for Sustainable Use of Resources\, and provide the rationale behind the criteria. The webinar will also review the process for submitting public comments on the criteria. \nNote: the draft criteria will be available around May 19\, and public comment opens for 60-days. \nPanelist Information\nPatty Dillon\, Senior Director\, Criteria & Category Development\, Global Electronics Council\nErica Logan\, Director\, Sustainability Criteria Development Global Electronics Council\nJessica Evans\, Director\, Standards Development\, NSF International\nGreta Baragar\, Sustainability Standards Lead\, NSF International
URL:http://synapse.asia/12777_website/event/gec-draft-sustainable-use-of-resources-criteria-public-comment-period/
CATEGORIES:Webinars
ATTACH;FMTTYPE=image/png:http://synapse.asia/12777_website/wp-content/uploads/GEC-Draft-Sustainable-Use-of-Resources-Criteria.png
END:VEVENT
END:VCALENDAR