BEGIN:VCALENDAR
VERSION:2.0
PRODID:-//Global Electronics Council - ECPv5.16.0//NONSGML v1.0//EN
CALSCALE:GREGORIAN
METHOD:PUBLISH
X-ORIGINAL-URL:http://synapse.asia/12777_website
X-WR-CALDESC:Events for Global Electronics Council
REFRESH-INTERVAL;VALUE=DURATION:PT1H
X-Robots-Tag:noindex
X-PUBLISHED-TTL:PT1H
BEGIN:VTIMEZONE
TZID:America/New_York
BEGIN:DAYLIGHT
TZOFFSETFROM:-0500
TZOFFSETTO:-0400
TZNAME:EDT
DTSTART:20210314T070000
END:DAYLIGHT
BEGIN:STANDARD
TZOFFSETFROM:-0400
TZOFFSETTO:-0500
TZNAME:EST
DTSTART:20211107T060000
END:STANDARD
END:VTIMEZONE
BEGIN:VEVENT
DTSTART;VALUE=DATE:20211010
DTEND;VALUE=DATE:20211011
DTSTAMP:20260422T182159
CREATED:20220608T113508Z
LAST-MODIFIED:20220608T115343Z
UID:6571-1633824000-1633910399@synapse.asia
SUMMARY:A Night Out With GEC
DESCRIPTION:Join the Global Electronics Council virtually\, from the National Center for Civil and Human Rights in Atlanta\, Georgia on October 7th\, 2021. We’ll have a chance to hear from sustainability leaders about the impact of procurement on social equity. You won’t want to miss this event! \nClick here to register!
URL:http://synapse.asia/12777_website/event/a-night-out-with-gec/
CATEGORIES:Events
ATTACH;FMTTYPE=image/png:http://synapse.asia/12777_website/wp-content/uploads/purchasers-awards-1200-628-image-2022-logo.png
END:VEVENT
END:VCALENDAR